BEGIN:VCALENDAR
VERSION:2.0
METHOD:PUBLISH
PRODID:-//Tendenci - The Open Source AMS for Associations//Tendenci Codeba
 se MIMEDIR//EN
BEGIN:VEVENT
DESCRIPTION:--- This iCal file does *NOT* confirm registration.\nEvent det
 ails subject to change. ---\nhttps://www.sssrocketry.com/events/8/\n\nEven
 t Title: Board Meeting\nStart Date / Time: Feb 15, 2022 19:00 PM America/P
 hoenix\nLocation: \nSSS board meetings happen every month on the Tuesday b
 efore the monthly launch.\n\n--- This iCal file does *NOT* confirm registr
 ation.Event details subject to change. ---\n\n--- By Tendenci - The Open S
 ource AMS for Associations ---\n
UID:uid8@sssrocketry.com
SUMMARY:Board Meeting
DTSTART:20220216T020000Z
DTEND:20220216T030000Z
CLASS:PUBLIC
PRIORITY:5
DTSTAMP:20260419T135345Z
TRANSP:OPAQUE
SEQUENCE:0
X-ALT-DESC;FMTTYPE=text/html:<div>--- This iCal file does *NOT* confirm re
 gistration.Event details subject to change. ---</div><h1>Event Title: Boar
 d Meeting</h1><div>https://www.sssrocketry.com/events/8/</div><br /><div>W
 hen: Feb 15, 2022 19:00 PM America/Phoenix</div><br /><div><p>SSS board me
 etings happen every month on the Tuesday before the monthly launch.</p></d
 iv><div>--- This iCal file does *NOT* confirm registration.Event details s
 ubject to change. ---</div><div>--- Tendenci&reg\; Software by <a href="ht
 tps://www.tendenci.com">tendenci.com</a> - The Open Source AMS for Associa
 tions ---</div>
BEGIN:VALARM
TRIGGER:-PT30M
ACTION:DISPLAY
DESCRIPTION:Reminder
END:VALARM
END:VEVENT
END:VCALENDAR
