BEGIN:VCALENDAR
VERSION:2.0
METHOD:PUBLISH
PRODID:-//Tendenci - The Open Source AMS for Associations//Tendenci Codeba
 se MIMEDIR//EN
BEGIN:VEVENT
DESCRIPTION:--- This iCal file does *NOT* confirm registration.\nEvent det
 ails subject to change. ---\nhttps://www.sssrocketry.com/events/51/\n\nEve
 nt Title: *Cancelled* Monthly Launch\nStart Date / Time: Sep 15, 2023 00:0
 0 AM America/Phoenix\nLocation: \nThe September launch has been cancelled.
  Please join us in October!\n\n--- This iCal file does *NOT* confirm regis
 tration.Event details subject to change. ---\n\n--- By Tendenci - The Open
  Source AMS for Associations ---\n
UID:uid51@sssrocketry.com
SUMMARY:*Cancelled* Monthly Launch
DTSTART:20230915T070000Z
DTEND:20230918T065959Z
CLASS:PUBLIC
PRIORITY:5
DTSTAMP:20260419T135607Z
TRANSP:OPAQUE
SEQUENCE:0
X-ALT-DESC;FMTTYPE=text/html:<div>--- This iCal file does *NOT* confirm re
 gistration.Event details subject to change. ---</div><h1>Event Title: *Can
 celled* Monthly Launch</h1><div>https://www.sssrocketry.com/events/51/</di
 v><br /><div>When: Sep 15, 2023 00:00 AM America/Phoenix</div><br /><div><
 p>The September launch has been cancelled. Please join us in October!</p><
 /div><div>--- This iCal file does *NOT* confirm registration.Event details
  subject to change. ---</div><div>--- Tendenci&reg\; Software by <a href="
 https://www.tendenci.com">tendenci.com</a> - The Open Source AMS for Assoc
 iations ---</div>
BEGIN:VALARM
TRIGGER:-PT30M
ACTION:DISPLAY
DESCRIPTION:Reminder
END:VALARM
END:VEVENT
END:VCALENDAR
