BEGIN:VCALENDAR
VERSION:2.0
METHOD:PUBLISH
PRODID:-//Tendenci - The Open Source AMS for Associations//Tendenci Codeba
 se MIMEDIR//EN
BEGIN:VEVENT
DESCRIPTION:--- This iCal file does *NOT* confirm registration.\nEvent det
 ails subject to change. ---\nhttps://www.sssrocketry.com/events/50/\n\nEve
 nt Title: *CANCELED* Monthly Launch\nStart Date / Time: Jun 16, 2023 00:00
  AM America/Phoenix\nLocation: \nThe June 2023 launch has been canceled du
 e to high temperatures and high winds in the forecast.  See you all in the
  fall!\n \n \nJoin us for our monthly launch at the Kofa launch site! Ever
 yone is welcome as are rockets of all sizes.\nThe launch runs Friday throu
 gh Sunday.\nFriday is low power only, typically from noon to sunset.\nSatu
 rday is both low and high power from 8:00 to 17:00.\nSunday is both low an
 d high power from 8:00 to noon.\nThere may be a night launch on Saturday, 
 we don't know if it will be approved until a few days before the launch, s
 o watch for announcements on our Facebook page just before launch.\n \nDir
 ections to Kofa Launch Site\nSSS Launch Procedures\nRange Layout Guide\nGe
 nerator Guidelines\n \nFor special group pricing, please contact us.\n\n--
 - This iCal file does *NOT* confirm registration.Event details subject to 
 change. ---\n\n--- By Tendenci - The Open Source AMS for Associations ---\
 n
UID:uid50@sssrocketry.com
SUMMARY:*CANCELED* Monthly Launch
DTSTART:20230616T070000Z
DTEND:20230619T065959Z
CLASS:PUBLIC
PRIORITY:5
DTSTAMP:20260419T135601Z
TRANSP:OPAQUE
SEQUENCE:0
X-ALT-DESC;FMTTYPE=text/html:<div>--- This iCal file does *NOT* confirm re
 gistration.Event details subject to change. ---</div><h1>Event Title: *CAN
 CELED* Monthly Launch</h1><div>https://www.sssrocketry.com/events/50/</div
 ><br /><div>When: Jun 16, 2023 00:00 AM America/Phoenix</div><br /><div><p
 >The June 2023 launch has been canceled due to high temperatures and high 
 winds in the forecast.&nbsp\; See you all in the fall!</p> <p>&nbsp\;</p> 
 <p>&nbsp\;</p> <p>Join us for our monthly launch at the Kofa launch site! 
 Everyone is welcome as are rockets of all sizes.</p> <p>The launch runs Fr
 iday through Sunday.</p> <p>Friday is low power only, typically from noon 
 to sunset.</p> <p>Saturday is both low and high power from 8:00 to 17:00.<
 /p> <p>Sunday is both low and high power from 8:00 to noon.</p> <p>There m
 ay be a night launch on Saturday, we don't know if it will be approved unt
 il a few days before the launch, so watch for announcements on our Faceboo
 k page just before launch.</p> <p>&nbsp\;</p> <p><a href="/launch-site/">D
 irections to Kofa Launch Site</a></p> <p><a href="/launch-procedures/">SSS
  Launch Procedures</a></p> <p><a href="/range-layout-guide/">Range Layout 
 Guide</a></p> <p><a href="/generator-guidelines/">Generator Guidelines</a>
 </p> <p>&nbsp\;</p> <p>For special group pricing, please <a href="/contact
 /">contact us</a>.</p></div><div>--- This iCal file does *NOT* confirm reg
 istration.Event details subject to change. ---</div><div>--- Tendenci&reg\
 ; Software by <a href="https://www.tendenci.com">tendenci.com</a> - The Op
 en Source AMS for Associations ---</div>
BEGIN:VALARM
TRIGGER:-PT30M
ACTION:DISPLAY
DESCRIPTION:Reminder
END:VALARM
END:VEVENT
END:VCALENDAR
