BEGIN:VCALENDAR
VERSION:2.0
METHOD:PUBLISH
PRODID:-//Tendenci - The Open Source AMS for Associations//Tendenci Codeba
 se MIMEDIR//EN
BEGIN:VEVENT
DESCRIPTION:--- This iCal file does *NOT* confirm registration.\nEvent det
 ails subject to change. ---\nhttps://www.sssrocketry.com/events/3/\n\nEven
 t Title: Monthly Launch\nStart Date / Time: Dec 17, 2021 12:00 PM America/
 Phoenix\nLocation: \nJoin us for our monthly launch at the Kofa launch sit
 e! Everyone is welcome as are rockets of all sizes.\n \nDirections to Kofa
  Launch Site\nSSS Launch Procedures\n\n--- This iCal file does *NOT* confi
 rm registration.Event details subject to change. ---\n\n--- By Tendenci - 
 The Open Source AMS for Associations ---\n
UID:uid3@sssrocketry.com
SUMMARY:Monthly Launch
DTSTART:20211217T190000Z
DTEND:20211219T190000Z
CLASS:PUBLIC
PRIORITY:5
DTSTAMP:20260419T135328Z
TRANSP:OPAQUE
SEQUENCE:0
X-ALT-DESC;FMTTYPE=text/html:<div>--- This iCal file does *NOT* confirm re
 gistration.Event details subject to change. ---</div><h1>Event Title: Mont
 hly Launch</h1><div>https://www.sssrocketry.com/events/3/</div><br /><div>
 When: Dec 17, 2021 12:00 PM America/Phoenix</div><br /><div><p>Join us for
  our monthly launch at the Kofa launch site! Everyone is welcome as are ro
 ckets of all sizes.</p> <p>&nbsp\;</p> <p><a href="/launch-site/">Directio
 ns to Kofa Launch Site</a></p> <p><a href="/launch-procedures/">SSS Launch
  Procedures</a></p></div><div>--- This iCal file does *NOT* confirm regist
 ration.Event details subject to change. ---</div><div>--- Tendenci&reg\; S
 oftware by <a href="https://www.tendenci.com">tendenci.com</a> - The Open 
 Source AMS for Associations ---</div>
BEGIN:VALARM
TRIGGER:-PT30M
ACTION:DISPLAY
DESCRIPTION:Reminder
END:VALARM
END:VEVENT
END:VCALENDAR
