BEGIN:VCALENDAR
VERSION:2.0
METHOD:PUBLISH
PRODID:-//Tendenci - The Open Source AMS for Associations//Tendenci Codeba
 se MIMEDIR//EN
BEGIN:VEVENT
DESCRIPTION:--- This iCal file does *NOT* confirm registration.\nEvent det
 ails subject to change. ---\nhttps://www.sssrocketry.com/events/2/\n\nEven
 t Title: Board Meeting\nStart Date / Time: Dec 14, 2021 19:00 PM America/P
 hoenix\nLocation: \nSSS Board Meeting\n\n--- This iCal file does *NOT* con
 firm registration.Event details subject to change. ---\n\n--- By Tendenci 
 - The Open Source AMS for Associations ---\n
UID:uid2@sssrocketry.com
SUMMARY:Board Meeting
DTSTART:20211215T020000Z
DTEND:20211215T030000Z
CLASS:PUBLIC
PRIORITY:5
DTSTAMP:20260419T135332Z
TRANSP:OPAQUE
SEQUENCE:0
X-ALT-DESC;FMTTYPE=text/html:<div>--- This iCal file does *NOT* confirm re
 gistration.Event details subject to change. ---</div><h1>Event Title: Boar
 d Meeting</h1><div>https://www.sssrocketry.com/events/2/</div><br /><div>W
 hen: Dec 14, 2021 19:00 PM America/Phoenix</div><br /><div><p>SSS Board Me
 eting</p></div><div>--- This iCal file does *NOT* confirm registration.Eve
 nt details subject to change. ---</div><div>--- Tendenci&reg\; Software by
  <a href="https://www.tendenci.com">tendenci.com</a> - The Open Source AMS
  for Associations ---</div>
BEGIN:VALARM
TRIGGER:-PT30M
ACTION:DISPLAY
DESCRIPTION:Reminder
END:VALARM
END:VEVENT
END:VCALENDAR
